Workbook
Name 단가: #REF!

Sheet 산출내역서
A1: 용역원가분석산출내역
M3: (단위:원)
A4: 구 분 | D4: 관리소장 | E4: 시설주임 | F4: 경비 | G4: 주차관리원 | H4: 미화반장 | I4: 미화 | J4: 안내 | K4: 외주보수비 | L4: 합 계 | M4: 비 고
A5: 인 건 비 | B5: 기본급 | D5: 2200165 | E5: 2079043 | F5: 2051219 | G5: 1562834 | H5: 1297110 | I5: 1297110 | J5: 1480011 | L5: 11967492 | M5: 시중노임단가 적용(미화 7시간)
B6: 제 수 당 | C6: 주휴수당 | D6: 464657 | E6: 439077 | F6: 312566 | G6: 312566 | H6: 312566 | I6: 312566 | J6: 312566 | L6: 2466564 | M6: 시급 x 8시간 x 4.34
C7: 연장근로시간 | D7: 0 | E7: 0 | F7: 0 | G7: 117212 | H7: 0 | I7: 0 | J7: 0 | L7: 117212 | M7: 근무시간표에 따라 지급
C8: 휴일근로시간 | D8: 0 | E8: 0 | F8: 0 | G8: 0 | H8: 0 | I8: 0 | J8: 0 | L8: 0 | M8: 근무시간표에 따라 지급
C9: 야간근로시간 | D9: 0 | E9: 0 | F9: 205392 | G9: 0 | H9: 0 | I9: 0 | J9: 0 | L9: 205392 | M9: 근무시간표에 따라 지급
C10: 연차수당 | D10: 133830 | E10: 126462 | F10: 90025 | G10: 90025 | H10: 78771 | I10: 78771 | J10: 90025 | L10: 687909 | M10: 시급 x 8시간 x 15일/12개월
C11: 직급수당 | D11: 200000 | E11: 50000 | F11: 0 | G11: 0 | H11: 50000 | I11: 0 | J11: 0 | L11: 300000
C12: 소계 | D12: 798487 | E12: 615539 | F12: 607983 | G12: 519803 | H12: 441337 | I12: 391337 | J12: 402591 | L12: 3777077
B13: 상여금 | D13: 183347 | E13: 173253 | F13: 170934 | G13: 130236 | H13: 108092 | I13: 108092 | J13: 123334 | L13: 997288 | M13: (기본급 x 상여금율) / 12개월
B14: 퇴직급여충당금 | D14: 265166 | E14: 238986 | F14: 235844 | G14: 184406 | H14: 153878 | I14: 149711 | J14: 167161 | L14: 1395152 | M14: (기본급+제수당+상여금) / 12개월
B15: 인건비 합계 | D15: 3447165 | E15: 3106821 | F15: 3065980 | G15: 2397279 | H15: 2000417 | I15: 1946250 | J15: 2173097 | L15: 18137009
A16: 경 비 | B16: 보 험 및 연 금 | C16: 건강보험료 | D16: 102778 | E16: 92631 | F16: 91413 | G16: 71475 | H16: 59643 | I16: 58028 | J16: 64791 | L16: 540759 | M16: [(인건비총액-퇴직금)]*3.23%
C17: 국민연금 | D17: 143189 | E17: 129052 | F17: 127356 | G17: 99579 | H17: 83094 | I17: 80844 | J17: 90267 | L17: 753381 | M17: [(인건비총액-퇴직금)]*4.5%
C18: 산재보험료 | D18: 41365 | E18: 37281 | F18: 36791 | G18: 28767 | H18: 24005 | I18: 23355 | J18: 26077 | L18: 217641 | M18: [(인건비총액-퇴직금)]*1.3%
C19: 고용보험료 | D19: 35001 | E19: 31546 | F19: 31131 | G19: 24341 | H19: 20311 | I19: 19761 | J19: 22065 | L19: 184156 | M19: [(인건비총액-퇴직금)]*1.1%
C20: 임금채권 보장보험료 | D20: 1909 | E20: 1720 | F20: 1698 | G20: 1327 | H20: 1107 | I20: 1077 | J20: 1203 | L20: 10041 | M20: [(인건비총액-퇴직금)]*0.06%
C21: 석면피해구제분담금 | D21: 95 | E21: 86 | F21: 84 | G21: 66 | H21: 55 | I21: 53 | J21: 60 | L21: 499 | M21: [(인건비총액-퇴직금)]*0.003%
C22: 장기요양보험료 | D22: 8740 | E22: 7880 | F22: 7770 | G22: 6080 | H22: 5070 | I22: 4930 | J22: 5510 | L22: 45980 | M22: 국민건강보험료*8.51%
C23: 계 | D23: 333077 | E23: 300196 | F23: 296243 | G23: 231635 | H23: 193285 | I23: 188048 | J23: 209973 | L23: 1752457
B24: 복리후생비 | C24: 근무복 | D24: 7000 | E24: 7000 | F24: 7000 | G24: 7000 | H24: 7000 | I24: 7000 | J24: 7000 | L24: 49000 | M24: [근무복] / 12개월
C25: 근무복잠바 | D25: 2500 | E25: 2500 | F25: 2500 | G25: 2500 | H25: 2500 | I25: 2500 | J25: 2500 | L25: 17500 | M25: [근무복잠바] / 12개월
C26: 근무화 | D26: 4500 | E26: 4500 | F26: 4500 | G26: 4500 | H26: 4500 | I26: 4500 | J26: 4500 | L26: 31500 | M26: [근무화] / 12개월
B27: 기타경비 | C27: 보증보험수수료 | D27: 5409 | E27: 4875 | F27: 4811 | G27: 3761 | H27: 3139 | I27: 3054 | J27: 3410 | L27: 28459 | M27: 보수월액 * 0.17%
C28: 장애인고용분담금 | D28: 32488 | E28: 32488 | F28: 32488 | G28: 32488 | H28: 32488 | I28: 32488 | J28: 32488 | L28: 227416
C29: 계 | D29: 51897 | E29: 51363 | F29: 51299 | G29: 50249 | H29: 49627 | I29: 49542 | J29: 49898 | L29: 353875
B30: 경비 합계 | D30: 384974 | E30: 351559 | F30: 347542 | G30: 281884 | H30: 242912 | I30: 237590 | J30: 259871 | L30: 2106332
A31: 인건비 및 경비(A) | D31: 3832139 | E31: 3458380 | F31: 3413522 | G31: 2679163 | H31: 2243329 | I31: 2183840 | J31: 2432968 | L31: 20243341
A32: 용역 인원(B) | D32: 1 | E32: 1 | F32: 2 | G32: 2 | H32: 1 | I32: 6 | J32: 1 | L32: 14
A33: 인건비 및 경비 원가(A*B) | D33: 3832139 | E33: 3458380 | F33: 6827044 | G33: 5358326 | H33: 2243329 | I33: 13103040 | J33: 2432968 | L33: 37255226
A34: 일반관리비 | D34: 95803 | E34: 86459 | F34: 170676 | G34: 133958 | H34: 56083 | I34: 327576 | J34: 60824 | L34: 931379 | M34: (인건비+경비)*9% 이내
A35: 기업이윤 | D35: 98198 | E35: 88620 | F35: 174943 | G35: 137307 | H35: 57485 | I35: 335765 | J35: 62344 | L35: 954662 | M35: (인건비+경비+일반관리비)*10% 이내
A36: 총원가 | D36: 4026140 | E36: 3633459 | F36: 7172663 | G36: 5629591 | H36: 2356897 | I36: 13766381 | J36: 2556136 | K36: 300000 | L36: 39441267
A37: 부가가치세 | D37: 402614 | E37: 363345 | F37: 717266 | G37: 562959 | H37: 235689 | I37: 1376638 | J37: 255613 | K37: 30000 | L37: 3944124 | M37: 총원가*10%
A38: 합계(월간) | D38: 4428754 | E38: 3996804 | F38: 7889929 | G38: 6192550 | H38: 2592586 | I38: 15143019 | J38: 2811749 | K38: 330000 | L38: 43385391
A39: 근무월수 | D39: 12 | E39: 12 | F39: 12 | G39: 12 | H39: 12 | I39: 12 | J39: 12 | K39: 12
A40: 합 계 | D40: 53145048 | E40: 47961648 | F40: 94679148 | G40: 74310600 | H40: 31111032 | I40: 181716228 | J40: 33740988 | K40: 3960000 | L40: 520624000

Sheet 결과
A2: Ⅰ. 원 가 계 산 결 과
A6: 우리 연구소에서 『특허정보진흥센터 사옥종합관리용역』에 대한 원가계산을 실시한 결과
A7: 는 다음과 같습니다.
E9: 단 위 : 원
A10: 용역명 | B10: 규격 | C10: 단위 | D10: 금액 | E10: 비 고
A11: 특허정보진흥센터 사옥종합관리용역 | B11: 제안요청서 참조 | C11: 식 | D11: =원가!F21 -> 520624000
A13: 주) 부가가치세 포함
A16: ※ 본 원가계산은 『예정가격 작성기준(기획재정부 제405호, 2019.01.01)』에서
A17: 정하는 방법에 의하여 원가요소별로 계산되었습니다.
C20: 2019년 05월 일

Sheet 원가
A2: Ⅳ. 원 가 계 산 서
G4: 단위 : 원 | I4: I | J4: J | K4: K | L4: L | M4: M | N4: N | O4: O | P4: P | Q4: Q | R4: R | S4: S | T4: T | U4: U | V4: V | W4: W | X4: X | Y4: Y | Z4: Z | AA4: AA | AB4: AB | AC4: AC | AD4: AD | AF4: AE
A5: No. | B5: 구분 | C5: 단위 | D5: 수량 | E5: 단가 | F5: 금액 | G5: 비고 | I5: 직급 | J5: 적용직종 | K5: 근무형태 | L5: 기본급 | N5: 주휴수당 | O5: 연장근로 | Q5: 휴일근로 | S5: 야간근로 | U5: 연차수당 | W5: 선임수당 | X5: 상여금 | Y5: 퇴충금 | Z5: 보험료 | AG5: 복리후생비 | AP5: 기타경비
L6: 적용노임 | M6: 적용시간 | O6: 적용시간 | P6: 요율 | Q6: 적용시간 | R6: 요율 | S6: 적용시간 | T6: 요율 | U6: 적용시간 | V6: 일 | Z6: 건강보험료 | AA6: 국민연금 | AB6: 산재보험료 | AC6: 고용보험료 | AD6: 임금채권 보장보험료 | AE6: 석면 | AF6: 장기요양 보험료 | AG6: 근무복 | AI6: 근무복잠바 | AK6: 근무화 | AM6: 식비 | AO6: 교육비 | AP6: 지방세 | AQ6: 보증보험 | AR6: 장애인분담금 | AS6: 장애인요율
A7: 1 | B7: 관리소장 | C7: 인 | D7: 1 | E7: 3832139 | F7: 3832139 | G7: < 표Ⅴ-1-1 > 참조 | H7: 1 | I7: 관리소장 | J7: 기계기술자 | K7: 일근 | L7: =VLOOKUP(J7,'MD임율(기초자료)'!$L:$M,2,0) -> 107064 | M7: 164.4 | N7: 4.34 | P7: 1.5 | R7: 1.5 | T7: 0.5 | U7: 8 | V7: 15 | W7: 200000 | X7: 1 | Y7: 1 | Z7: 0.0323 | AA7: 0.045 | AB7: 0.013 | AC7: 0.011 | AD7: 0.0006 | AE7: 3e-05 | AF7: 0.0851 | AG7: =+#REF! -> #REF! | AH7: 2 | AI7: =+#REF! -> #REF! | AJ7: 1 | AK7: =+#REF! -> #REF! | AL7: 2 | AM7: =+#REF! -> #REF! | AN7: 21 | AQ7: 0.0017 | AR7: 1048000 | AS7: 0.031
A8: 2 | B8: 시설주임 | C8: 인 | D8: 1 | E8: 3458380 | F8: 3458380 | G8: < 표Ⅴ-2-1 > 참조 | H8: 2 | I8: 시설주임 | J8: 기계정비원 | K8: 일근 | L8: =VLOOKUP(J8,'MD임율(기초자료)'!$L:$M,2,0) -> 101170 | M8: 164.4 | N8: 4.34 | P8: 1.5 | R8: 1.5 | T8: 0.5 | U8: 8 | V8: 15 | W8: 50000 | X8: 1 | Y8: 1 | Z8: =+Z7 -> 0.0323 | AA8: =+AA7 -> 0.045 | AB8: =+AB7 -> 0.013 | AC8: =+AC7 -> 0.011 | AD8: =+AD7 -> 0.0006 | AE8: =+AE7 -> 3e-05 | AF8: =+AF7 -> 0.0851 | AG8: =+AG7 -> #REF! | ... AN8: =+AN7 -> 21 | AQ8: =+AQ7 -> 0.0017 | AR8: =+AR7 -> 1048000 | AS8: =+AS7 -> 0.031
A9: 3 | B9: 경비 | C9: 인 | D9: 2 | E9: 3413522 | F9: 6827044 | G9: < 표Ⅴ-3-1 > 참조 | H9: 3 | I9: 경비 | J9: 단순노무종사원 | K9: 2교대 | L9: =VLOOKUP(J9,'MD임율(기초자료)'!$L:$M,2,0) -> 72020 | M9: 227.85 | N9: 4.34 | P9: 1.5 | R9: 1.5 | S9: =+근무시간산출표!I14 -> 45.63 | T9: 0.5 | U9: 8 | V9: 15 | X9: 1 | Y9: 1 | Z9: =+Z8 -> 0.0323 | AA9: =+AA8 -> 0.045 | AB9: =+AB8 -> 0.013 | AC9: =+AC8 -> 0.011 | AD9: =+AD8 -> 0.0006 | AE9: =+AE8 -> 3e-05 | AF9: =+AF8 -> 0.0851 | AG9: =+AG8 -> #REF! | ... AN9: =+AN8 -> 21 | AQ9: =+AQ8 -> 0.0017 | AR9: =+AR8 -> 1048000 | AS9: =+AS8 -> 0.031
A10: 4 | B10: 주차관리원 | C10: 인 | D10: 2 | E10: 2679163 | F10: 5358326 | G10: < 표Ⅴ-4-1 > 참조 | H10: 4 | I10: 주차관리원 | J10: 단순노무종사원 | K10: 2교대 | L10: =VLOOKUP(J10,'MD임율(기초자료)'!$L:$M,2,0) -> 72020 | M10: =+근무시간산출표!J23 -> 173.6 | N10: 4.34 | O10: =+근무시간산출표!I23 -> 8.68 | P10: 1.5 | R10: 1.5 | T10: 0.5 | U10: 8 | V10: 15 | X10: 1 | Y10: 1 | Z10: =+Z9 -> 0.0323 | AA10: =+AA9 -> 0.045 | AB10: =+AB9 -> 0.013 | AC10: =+AC9 -> 0.011 | AD10: =+AD9 -> 0.0006 | AE10: =+AE9 -> 3e-05 | AF10: =+AF9 -> 0.0851 | AG10: =+AG9 -> #REF! | ... AN10: =+AN9 -> 21 | AQ10: =+AQ9 -> 0.0017 | AR10: =+AR9 -> 1048000 | AS10: =+AS9 -> 0.031
A11: 5 | B11: 미화반장 | C11: 인 | D11: 1 | E11: 2243329 | F11: 2243329 | G11: < 표Ⅴ-5-1 > 참조 | H11: 5 | I11: 미화반장 | J11: 단순노무종사원 | K11: 일근 | L11: =VLOOKUP(J11,'MD임율(기초자료)'!$L:$M,2,0) -> 72020 | M11: =+일수산출!K18 -> 144.08333 | N11: 4.34 | P11: 1.5 | R11: 1.5 | T11: 0.5 | U11: 7 | V11: 15 | W11: 50000 | X11: 1 | Y11: 1 | Z11: =+Z10 -> 0.0323 | AA11: =+AA10 -> 0.045 | AB11: =+AB10 -> 0.013 | AC11: =+AC10 -> 0.011 | AD11: =+AD10 -> 0.0006 | AE11: =+AE10 -> 3e-05 | AF11: =+AF10 -> 0.0851 | AG11: =+AG10 -> #REF! | ... AN11: =+AN10 -> 21 | AQ11: =+AQ10 -> 0.0017 | AR11: =+AR10 -> 1048000 | AS11: =+AS10 -> 0.031
A12: 6 | B12: 미화 | C12: 인 | D12: 6 | E12: 2183840 | F12: 13103040 | G12: < 표Ⅴ-6-1 > 참조 | H12: 6 | I12: 미화 | J12: 단순노무종사원 | K12: 일근 | L12: =VLOOKUP(J12,'MD임율(기초자료)'!$L:$M,2,0) -> 72020 | M12: 144.08333 | N12: 4.34 | P12: 1.5 | R12: 1.5 | T12: 0.5 | U12: 7 | V12: 15 | X12: 1 | Y12: 1 | Z12: =+Z11 -> 0.0323 | AA12: =+AA11 -> 0.045 | AB12: =+AB11 -> 0.013 | AC12: =+AC11 -> 0.011 | AD12: =+AD11 -> 0.0006 | AE12: =+AE11 -> 3e-05 | AF12: =+AF11 -> 0.0851 | AG12: =+AG11 -> #REF! | ... AN12: =+AN11 -> 21 | AQ12: =+AQ11 -> 0.0017 | AR12: =+AR11 -> 1048000 | AS12: =+AS11 -> 0.031
A13: 7 | B13: 안내 | C13: 인 | D13: 1 | E13: 2432968 | F13: 2432968 | G13: < 표Ⅴ-7-1 > 참조 | H13: 7 | I13: 안내 | J13: 단순노무종사원 | K13: 일근 | L13: =VLOOKUP(J13,'MD임율(기초자료)'!$L:$M,2,0) -> 72020 | M13: 164.4 | N13: 4.34 | P13: 1.5 | R13: 1.5 | T13: 0.5 | U13: 8 | V13: 15 | X13: 1 | Y13: 1 | Z13: =+Z12 -> 0.0323 | AA13: =+AA12 -> 0.045 | AB13: =+AB12 -> 0.013 | AC13: =+AC12 -> 0.011 | AD13: =+AD12 -> 0.0006 | AE13: =+AE12 -> 3e-05 | AF13: =+AF12 -> 0.0851 | AG13: =+AG12 -> #REF! | ... AN13: =+AN12 -> 21 | AQ13: =+AQ12 -> 0.0017 | AR13: =+AR12 -> 1048000 | AS13: =+AS12 -> 0.031
A14: 8 | B14: 소계 | D14: 14 | F14: 37255226 | G14: 월기준 | M14: =+M11/M12 -> 1 | N14: =45/2 -> 22.5
A15: 9 | B15: 연간기준 | C15: 월 | D15: 12 | E15: 37255226 | F15: 447062712 | M15: =+M10/M12 -> 1.2048583 | N15: =+N14*4.34 -> 97.65 | AC15: 150인이상
A16: 10 | B16: 일반관리비 | C16: % | D16: 2.5 | E16: 447062712 | F16: 11176567 | G16: 계×2.5% | AC16: 0.015
A17: 11 | B17: 이윤 | C17: % | D17: 2.5 | E17: 458239279 | F17: 11455981 | G17: (연간기준+일반관리비)×2.5% | AC17: =+AC16-0.65% -> 0.0085
A18: 12 | B18: 외주유지보수비 | C18: 연 | D18: 1 | E18: 3600000 | F18: 3600000
A19: 13 | B19: 합계 | F19: 473295260 | X19: =13/1000 -> 0.013
A20: 14 | B20: 부가가치세 | C20: % | D20: 10 | E20: 473295260 | F20: 47329526
A21: 15 | B21: 총원가 | F21: 520624000 | G21: 천원미만절사
A22: 주1) 인원: 제안요청서 참조
A23: 2) 월간단가: 직급별 원가계산서 참조
A24: 3) 연간기준 : 소계(월간금액) × 12개월
A25: 4) 외주유지보수비 : 연간(소독비 및 안전관리자선임수당 등)

Sheet 근무시간산출표
B1: < 표Ⅴ-8 >
B2: 근무시간 산출표 | L2: 월~금 | M2: 토 일
L3: 7 ~ 22 | M3: 7 ~ 22
A4: 1
B5: 구분 | C5: 산출내역
B7: ◎ 경비부문
B8: 월근로시간산출 | C8: ="A조(1인) : "&E8&" HR/일 × 1인 × 7일/주" -> A조(1인) : 6 HR/일 × 1인 × 7일/주 | D8: A | E8: =+조별근무시간표!AM10 -> 6 | F8: 1 | G8: 7 | I8: =ROUNDDOWN(E8*F8*G8,) -> 42
C9: ="B조(1인) : "&E9&" HR/일 × 1인 × 7일/주" -> B조(1인) : 10 HR/일 × 1인 × 7일/주 | D9: B | E9: =+조별근무시간표!AM11 -> 10 | F9: 1 | G9: 7 | I9: =ROUNDDOWN(E9*F9*G9,) -> 70
C10: =""&FIXED(E10,1)&" HR/주 × "&FIXED(F10,2)&" 주/월 ÷ "&FIXED(H10,0)&"인 = "&FIXED(E10*F10/H10,2)&"HR/월,인" -> 112.0 HR/주 × 4.34 주/월 ÷ 2인 = 243.04HR/월,인 | E10: =SUM(I8:I9) -> 112 | F10: 4.34 | H10: 2 | I10: =+E10*F10/H10 -> 243.04
B11: 연장근로시간산출 | C11: 월근로시간 - 기본근로시간 = 연장근로시간
C12: =""&FIXED(E10*F10/H10,2)&"HR/월,인 - "&FIXED(J12,2)&"HR/월,인 = "&FIXED(I10-J12,2)&"HR/월,인" -> 243.04HR/월,인 - 173.60HR/월,인 = 69.44HR/월,인 | I12: =+I10-J12 -> 69.44 | J12: =8*4.34*5 -> 173.6
B13: 야간근로시간 산출 | C13: 야간근로시간
C14: ="("&FIXED(D14,0)&"HR/일 × "&FIXED(E14,0)&" 인 × "&FIXED(F14,1)&"일/월) ÷ "&FIXED(G14,0)&" = "&FIXED((D14*E14*F14)/G14,2)&"HR/월 " -> (3HR/일 × 1 인 × 30.4일/월) ÷ 2 = 45.63HR/월 | D14: =+조별근무시간표!AN11 -> 3 | E14: 1 | F14: 30.416667 | G14: 2 | I14: =FIXED((D14*E14*F14)/G14,2) -> 45.63 | J14: =FIXED(G14,0) -> 2 | K14: =FIXED((D14*E14*F14)/G14,2) -> 45.63
B15: ◎ 주차부문
B16: 월근로시간산출(주간) | C16: ="A조(1인) : "&E16&" HR/일 × 1인 × 5일/주" -> A조(1인) : 6.5 HR/일 × 1인 × 5일/주 | D16: A | E16: 6.5 | F16: 1 | G16: 5 | I16: =ROUNDDOWN(E16*F16*G16,) -> 32
C17: ="B조(1인) : "&E17&" HR/일 × 1인 × 5일/주" -> B조(1인) : 6.5 HR/일 × 1인 × 5일/주 | D17: B | E17: 6.5 | F17: 1 | G17: 5 | I17: =ROUNDDOWN(E17*F17*G17,) -> 32
C18: =""&FIXED(E18,1)&" HR/주 × "&FIXED(F18,2)&" 주/월 ÷ "&FIXED(H18,0)&"인 = "&FIXED(E18*F18/H18,2)&"HR/월,인" -> 64.0 HR/주 × 4.34 주/월 ÷ 2인 = 138.88HR/월,인 | E18: =SUM(I16:I17) -> 64 | F18: 4.34 | H18: 2 | I18: =+E18*F18/H18 -> 138.88
B19: 월근로시간산출(주말) | C19: ="A조(1인) : "&E19&" HR/일 × 1인 × 2일/주" -> A조(1인) : 5 HR/일 × 1인 × 2일/주 | D19: A | E19: 5 | F19: 1 | G19: 2 | I19: =ROUNDDOWN(E19*F19*G19,) -> 10
C20: ="B조(1인) : "&E20&" HR/일 × 1인 × 2일/주" -> B조(1인) : 5 HR/일 × 1인 × 2일/주 | D20: B | E20: 5 | F20: 1 | G20: 2 | I20: =ROUNDDOWN(E20*F20*G20,) -> 10
C21: =""&FIXED(E21,1)&" HR/주 × "&FIXED(F21,2)&" 주/월 ÷ "&FIXED(H21,0)&"인 = "&FIXED(E21*F21/H21,2)&"HR/월,인" -> 20.0 HR/주 × 4.34 주/월 ÷ 2인 = 43.40HR/월,인 | E21: =SUM(I19:I20) -> 20 | F21: 4.34 | H21: 2 | I21: =+E21*F21/H21 -> 43.4 | J21: =+I21+I18 -> 182.28
B22: 연장근로시간산출 | C22: 월근로시간 - 기본근로시간 = 연장근로시간
C23: =""&FIXED(E18*F18/H18+E21*F21/H21,2)&"HR/월,인 - "&FIXED(J23,2)&"HR/월,인 = "&FIXED(I18+I21-J23,2)&"HR/월,인" -> 182.28HR/월,인 - 173.60HR/월,인 = 8.68HR/월,인 | I23: =+I18+I21-J23 -> 8.68 | J23: =8*4.34*5 -> 173.6
B24: 야간근로시간 산출 | C24: 야간근로시간
B26: 주) 조별근무시간표 참조

Sheet 조별근무시간표
A1: < 표Ⅴ-9 >
A2: 조별 근무시간표
A4: 1) 경비부문
A5: 시각 근무형태 | F5: 주간 | AD5: 야간
F6: 7 | H6: 8 | I6: 9 | K6: 10 | M6: 11 | N6: 12 | O6: 13 | Q6: 14 | R6: 15 | S6: 16 | T6: 17 | V6: 18 | W6: 19 | Y6: 20 | AA6: 21 | AC6: 22 | AD6: 23 | AE6: 24 | AF6: 1 | AH6: 2 | AI6: 3 | AJ6: 4 | AK6: 5 | AL6: 6
B7: A조( 1 인 )
B8: B조( 1 인 )
B9: 계 ( 2 인 )
B10: A조( 1 인 ) | F10: 총근무시간 : 10시간 | R10: 제외(식사)시간 : 4시간 | AE10: 심야근로시간 : 0시간 | AM10: 6
B11: B조( 1 인 ) | F11: 총근무시간 : 14시간 | R11: 제외(식사)시간 : 5시간 | AE11: 심야근로시간 : 3시간 | AM11: 10 | AN11: 3
A14: 2) 주차부문
A15: 시각 근무형태 | F15: 주간 | AD15: 야간
F16: 7 | H16: 8 | I16: 9 | K16: 10 | M16: 11 | N16: 12 | O16: 13 | Q16: 14 | R16: 15 | S16: 16 | T16: 17 | V16: 18 | W16: 19 | Y16: 20 | AA16: 21 | AC16: 22 | AD16: 23 | AE16: 24 | AF16: 1 | AH16: 2 | AI16: 3 | AJ16: 4 | AK16: 5 | AL16: 6
B17: A조( 1 인 ) | AM17: 8
B18: B조( 1 인 ) | AM18: 8
B19: 계 ( 2 인 ) | AO19: 주말 | AP19: 10
B20: A조( 1 인 ) | F20: 총근무시간 : 6시간30분 | R20: 제외(식사)시간 : 0시간 | AE20: 연장근로시간 : 0시간
B21: B조( 1 인 ) | F21: 총근무시간 : 6시간30분 | R21: 제외(식사)시간 : 0시간 | AE21: 연장근로시간 : 0시간
A22: 2) 주차부문(주말)
A23: 시각 근무형태 | F23: 주간 | AD23: 야간
F24: 7 | H24: 8 | I24: 9 | K24: 10 | M24: 11 | N24: 12 | O24: 13 | Q24: 14 | R24: 15 | S24: 16 | T24: 17 | V24: 18 | W24: 19 | Y24: 20 | AA24: 21 | AC24: 22 | AD24: 23 | AE24: 24 | AF24: 1 | AH24: 2 | AI24: 3 | AJ24: 4 | AK24: 5 | AL24: 6
B25: A조( 1 인 ) | AM25: 8
B26: B조( 1 인 ) | AM26: 8
B27: 계 ( 2 인 ) | AO27: 주말 | AP27: 10
B28: A조( 1 인 ) | F28: 총근무시간 : 5시간 | R28: 제외(식사)시간 : 0시간 | AE28: 연장근로시간 : 0시간
B29: B조( 1 인 ) | F29: 총근무시간 : 5시간 | R29: 제외(식사)시간 : 0시간 | AE29: 연장근로시간 : 0시간
B30: 주) | D30: : | E30: 근무시간 | L30: : | M30: 제외시간 | R30: : | S30: 야간근로시간

Sheet 일수산출
A2: 년간근로일수산출표
A5: 대상기간 | C5: 월일수 | D5: 일요일 | E5: 토요일 | F5: 법정 공휴일 | G5: 휴계일 | H5: 평일수 | I5: 비고
A6: 년 | B6: 월
A7: 2019 | B7: 6 | C7: 30 | D7: 5 | E7: 5 | F7: 1 | G7: =SUM(D7:F7) -> 11 | H7: =C7-G7 -> 19 | I7: 현충일
B8: 7 | C8: 31 | D8: 4 | E8: 4 | G8: =SUM(D8:F8) -> 8 | H8: =C8-G8 -> 23
B9: 8 | C9: 31 | D9: 4 | E9: 5 | F9: 1 | G9: =SUM(D9:F9) -> 10 | H9: =C9-G9 -> 21 | I9: 광복절
B10: 9 | C10: 30 | D10: 5 | E10: 4 | F10: 2 | G10: =SUM(D10:F10) -> 11 | H10: =C10-G10 -> 19 | I10: 추석
B11: 10 | C11: 31 | D11: 4 | E11: 4 | F11: 2 | G11: =SUM(D11:F11) -> 10 | H11: =C11-G11 -> 21 | I11: 개천, 한글 | L11: =105/2 -> 52.5 | M11: =+L11*4.34 -> 227.85
B12: 11 | C12: 30 | D12: 4 | E12: 5 | G12: =SUM(D12:F12) -> 9 | H12: =C12-G12 -> 21 | L12: 60.82
B13: 12 | C13: 31 | D13: 5 | E13: 4 | F13: 1 | G13: =SUM(D13:F13) -> 10 | H13: =C13-G13 -> 21 | I13: 성탄
A14: 2020 | B14: 1 | C14: 31 | D14: 4 | E14: 4 | F14: 3 | G14: =SUM(D14:F14) -> 11 | H14: =C14-G14 -> 20 | I14: 설날
B15: 2 | C15: 29 | D15: 4 | E15: 5 | G15: =SUM(D15:F15) -> 9 | H15: =C15-G15 -> 20 | K15: =+K16*7*5 -> 144.08333
B16: 3 | C16: 31 | D16: 5 | E16: 4 | G16: =SUM(D16:F16) -> 9 | H16: =C16-G16 -> 22 | K16: =+K17/5 -> 4.1166667
B17: 4 | C17: 30 | D17: 4 | E17: 4 | F17: 2 | G17: =SUM(D17:F17) -> 10 | H17: =C17-G17 -> 20 | I17: 선거, 부처님 | K17: =247/12 -> 20.583333
B18: 5 | C18: 31 | D18: 5 | E18: 5 | F18: 1 | G18: =SUM(D18:F18) -> 11 | H18: =C18-G18 -> 20 | I18: 어린이날 | K18: =247/12*7 -> 144.08333
B19: 6 | G19: =SUM(D19:F19) -> 0 | H19: =C19-G19 -> 0
B20: 7 | G20: =SUM(D20:F20) -> 0 | H20: =C20-G20 -> 0
B21: 8 | G21: =SUM(D21:F21) -> 0 | H21: =C21-G21 -> 0
B22: 9 | G22: =SUM(D22:F22) -> 0 | H22: =C22-G22 -> 0
B23: 10 | G23: =SUM(D23:F23) -> 0 | H23: =C23-G23 -> 0
B24: 11 | G24: =SUM(D24:F24) -> 0 | H24: =C24-G24 -> 0
B25: 12 | G25: =SUM(D25:F25) -> 0 | H25: =C25-G25 -> 0
A26: 2021 | B26: 1 | G26: =SUM(D26:F26) -> 0 | H26: =C26-G26 -> 0
B27: 2 | G27: =SUM(D27:F27) -> 0 | H27: =C27-G27 -> 0
B28: 3 | G28: =SUM(D28:F28) -> 0 | H28: =C28-G28 -> 0
B29: 4 | G29: =SUM(D29:F29) -> 0 | H29: =C29-G29 -> 0
B30: 5 | G30: =SUM(D30:F30) -> 0 | H30: =C30-G30 -> 0
A31: 계 | C31: =SUM(C7:C30) -> 366 | D31: =SUM(D7:D30) -> 53 | E31: =SUM(E7:E30) -> 53 | F31: =SUM(F7:F30) -> 13 | G31: =SUM(G7:G30) -> 119 | H31: =SUM(H7:H30) -> 247 | K31: =247/12*8 -> 164.66667
A32: 주1) M/D당 노임기준 월 기본작업시간:247일/12월/년*8HR/일 = 164.6HR | K32: =H31/2*7 -> 864.5 | L32: =365/7 -> 52.142857 | M32: =L32/12 -> 4.3452381

Sheet MD임율(기초자료)
B2: 제조부문 시중노임단가
B4: N0. | D4: 직종명 | F4: 기본급 | G4: 비고 | H4: 상 여 금 | I4: 퇴직급여 충당금 | J4: M/D당 임율 | L4: 직종명 | M4: =F4 -> 기본급
B5: 1 | D5: CAD설계사(기계) | F5: 111366 | H5: =ROUNDDOWN(F5/12*4,) -> 37122 | I5: =ROUNDDOWN(SUM(F5:H5)/12,) -> 12374 | J5: =ROUNDDOWN((F5+H5+I5)/1,0) -> 160862 | L5: =D5 -> CAD설계사(기계) | M5: =F5 -> 111366
B6: 2 | D6: CAD설계사(회로) | F6: 124211 | H6: =ROUNDDOWN(F6/12*4,) -> 41403 | I6: =ROUNDDOWN(SUM(F6:H6)/12,) -> 13801 | J6: =ROUNDDOWN((F6+H6+I6)/1,0) -> 179415 | L6: =D6 -> CAD설계사(회로) | M6: =F6 -> 124211
B7: 6 | D7: 드릴링기조작원 | F7: 80687 | H7: =ROUNDDOWN(F7/12*4,) -> 26895 | I7: =ROUNDDOWN(SUM(F7:H7)/12,) -> 8965 | J7: =ROUNDDOWN((F7+H7+I7)/1,0) -> 116547 | L7: =D7 -> 드릴링기조작원 | M7: =F7 -> 80687
B8: 7 | D8: 공작기계조작원 | F8: 88937 | H8: =ROUNDDOWN(F8/12*4,) -> 29645 | I8: =ROUNDDOWN(SUM(F8:H8)/12,) -> 9881 | J8: =ROUNDDOWN((F8+H8+I8)/1,0) -> 128463 | L8: =D8 -> 공작기계조작원 | M8: =F8 -> 88937
B9: 8 | D9: 마킹원 | H9: =ROUNDDOWN(F9/12*4,) -> 0 | I9: =ROUNDDOWN(SUM(F9:H9)/12,) -> 0 | J9: =ROUNDDOWN((F9+H9+I9)/1,0) -> 0 | L9: =D9 -> 마킹원 | M9: =F9 -> 0
B10: 12 | D10: 절곡원 | F10: 84511 | H10: =ROUNDDOWN(F10/12*4,) -> 28170 | I10: =ROUNDDOWN(SUM(F10:H10)/12,) -> 9390 | J10: =ROUNDDOWN((F10+H10+I10)/1,0) -> 122071 | L10: =D10 -> 절곡원 | M10: =F10 -> 84511
B11: 13 | D11: 귀금속세공원 | H11: =ROUNDDOWN(F11/12*4,) -> 0 | I11: =ROUNDDOWN(SUM(F11:H11)/12,) -> 0 | J11: =ROUNDDOWN((F11+H11+I11)/1,0) -> 0 | L11: =D11 -> 귀금속세공원 | M11: =F11 -> 0
B12: 14 | D12: 주물원 | F12: 81229 | H12: =ROUNDDOWN(F12/12*4,) -> 27076 | I12: =ROUNDDOWN(SUM(F12:H12)/12,) -> 9025 | J12: =ROUNDDOWN((F12+H12+I12)/1,0) -> 117330 | L12: =D12 -> 주물원 | M12: =F12 -> 81229
B13: 15 | D13: 단조원 | F13: 81767 | H13: =ROUNDDOWN(F13/12*4,) -> 27255 | I13: =ROUNDDOWN(SUM(F13:H13)/12,) -> 9085 | J13: =ROUNDDOWN((F13+H13+I13)/1,0) -> 118107 | L13: =D13 -> 단조원 | M13: =F13 -> 81767
B14: 16 | D14: 금형원 | F14: 89736 | H14: =ROUNDDOWN(F14/12*4,) -> 29912 | I14: =ROUNDDOWN(SUM(F14:H14)/12,) -> 9970 | J14: =ROUNDDOWN((F14+H14+I14)/1,0) -> 129618 | L14: =D14 -> 금형원 | M14: =F14 -> 89736
B15: 17 | D15: 목형원 | F15: 96375 | H15: =ROUNDDOWN(F15/12*4,) -> 32125 | I15: =ROUNDDOWN(SUM(F15:H15)/12,) -> 10708 | J15: =ROUNDDOWN((F15+H15+I15)/1,0) -> 139208 | L15: =D15 -> 목형원 | M15: =F15 -> 96375
B16: 18 | D16: 조형원 | F16: 76287 | H16: =ROUNDDOWN(F16/12*4,) -> 25429 | I16: =ROUNDDOWN(SUM(F16:H16)/12,) -> 8476 | J16: =ROUNDDOWN((F16+H16+I16)/1,0) -> 110192 | L16: =D16 -> 조형원 | M16: =F16 -> 76287
B17: 19 | D17: 압연원 | F17: 90292 | H17: =ROUNDDOWN(F17/12*4,) -> 30097 | I17: =ROUNDDOWN(SUM(F17:H17)/12,) -> 10032 | J17: =ROUNDDOWN((F17+H17+I17)/1,0) -> 130421 | L17: =D17 -> 압연원 | M17: =F17 -> 90292
B18: 20 | D18: 압출기조작원 | F18: 83525 | H18: =ROUNDDOWN(F18/12*4,) -> 27841 | I18: =ROUNDDOWN(SUM(F18:H18)/12,) -> 9280 | J18: =ROUNDDOWN((F18+H18+I18)/1,0) -> 120646 | L18: =D18 -> 압출기조작원 | M18: =F18 -> 83525
B19: 21 | D19: 열처리원 | F19: 80782 | H19: =ROUNDDOWN(F19/12*4,) -> 26927 | I19: =ROUNDDOWN(SUM(F19:H19)/12,) -> 8975 | J19: =ROUNDDOWN((F19+H19+I19)/1,0) -> 116684 | L19: =D19 -> 열처리원 | M19: =F19 -> 80782
B20: 22 | D20: 용해원 | F20: 82661 | H20: =ROUNDDOWN(F20/12*4,) -> 27553 | I20: =ROUNDDOWN(SUM(F20:H20)/12,) -> 9184 | J20: =ROUNDDOWN((F20+H20+I20)/1,0) -> 119398 | L20: =D20 -> 용해원 | M20: =F20 -> 82661
B21: 23 | D21: 인발기조작원 | F21: 88492 | H21: =ROUNDDOWN(F21/12*4,) -> 29497 | I21: =ROUNDDOWN(SUM(F21:H21)/12,) -> 9832 | J21: =ROUNDDOWN((F21+H21+I21)/1,0) -> 127821 | L21: =D21 -> 인발기조작원 | M21: =F21 -> 88492
B22: 24 | D22: 태핑기조작원 | H22: =ROUNDDOWN(F22/12*4,) -> 0 | I22: =ROUNDDOWN(SUM(F22:H22)/12,) -> 0 | J22: =ROUNDDOWN((F22+H22+I22)/1,0) -> 0 | L22: =D22 -> 태핑기조작원 | M22: =F22 -> 0
B23: 25 | D23: 판금원 | F23: 87918 | H23: =ROUNDDOWN(F23/12*4,) -> 29306 | I23: =ROUNDDOWN(SUM(F23:H23)/12,) -> 9768 | J23: =ROUNDDOWN((F23+H23+I23)/1,0) -> 126992 | L23: =D23 -> 판금원 | M23: =F23 -> 87918
B24: 26 | D24: 합금원 | F24: 93181 | H24: =ROUNDDOWN(F24/12*4,) -> 31060 | I24: =ROUNDDOWN(SUM(F24:H24)/12,) -> 10353 | J24: =ROUNDDOWN((F24+H24+I24)/1,0) -> 134594 | L24: =D24 -> 합금원 | M24: =F24 -> 93181
B25: 28 | D25: 다이케스트원 | F25: 75869 | H25: =ROUNDDOWN(F25/12*4,) -> 25289 | I25: =ROUNDDOWN(SUM(F25:H25)/12,) -> 8429 | J25: =ROUNDDOWN((F25+H25+I25)/1,0) -> 109587 | L25: =D25 -> 다이케스트원 | M25: =F25 -> 75869
B26: 30 | D26: 쇠톱기조작원 | F26: 77087 | H26: =ROUNDDOWN(F26/12*4,) -> 25695 | I26: =ROUNDDOWN(SUM(F26:H26)/12,) -> 8565 | J26: =ROUNDDOWN((F26+H26+I26)/1,0) -> 111347 | L26: =D26 -> 쇠톱기조작원 | M26: =F26 -> 77087
B27: 31 | D27: 모형조각기원 | F27: 89870 | H27: =ROUNDDOWN(F27/12*4,) -> 29956 | I27: =ROUNDDOWN(SUM(F27:H27)/12,) -> 9985 | J27: =ROUNDDOWN((F27+H27+I27)/1,0) -> 129811 | L27: =D27 -> 모형조각기원 | M27: =F27 -> 89870
B28: 32 | D28: 절단원 | F28: 88131 | H28: =ROUNDDOWN(F28/12*4,) -> 29377 | I28: =ROUNDDOWN(SUM(F28:H28)/12,) -> 9792 | J28: =ROUNDDOWN((F28+H28+I28)/1,0) -> 127300 | L28: =D28 -> 절단원 | M28: =F28 -> 88131
B29: 34 | D29: 유리절단및재단원 | F29: 95810 | H29: =ROUNDDOWN(F29/12*4,) -> 31936 | I29: =ROUNDDOWN(SUM(F29:H29)/12,) -> 10645 | J29: =ROUNDDOWN((F29+H29+I29)/1,0) -> 138391 | L29: =D29 -> 유리절단및재단원 | M29: =F29 -> 95810
B30: 35 | D30: 벤딩머쉰조작원 | F30: 86214 | H30: =ROUNDDOWN(F30/12*4,) -> 28738 | I30: =ROUNDDOWN(SUM(F30:H30)/12,) -> 9579 | J30: =ROUNDDOWN((F30+H30+I30)/1,0) -> 124531 | L30: =D30 -> 벤딩머쉰조작원 | M30: =F30 -> 86214
B31: 36 | D31: 금속교정원 | F31: 93156 | H31: =ROUNDDOWN(F31/12*4,) -> 31052 | I31: =ROUNDDOWN(SUM(F31:H31)/12,) -> 10350 | J31: =ROUNDDOWN((F31+H31+I31)/1,0) -> 134558 | L31: =D31 -> 금속교정원 | M31: =F31 -> 93156
B32: 37 | D32: 선반원 | F32: 84632 | H32: =ROUNDDOWN(F32/12*4,) -> 28210 | I32: =ROUNDDOWN(SUM(F32:H32)/12,) -> 9403 | J32: =ROUNDDOWN((F32+H32+I32)/1,0) -> 122245 | L32: =D32 -> 선반원 | M32: =F32 -> 84632
B33: 38 | D33: 프레나기조작원 | F33: 78123 | H33: =ROUNDDOWN(F33/12*4,) -> 26041 | I33: =ROUNDDOWN(SUM(F33:H33)/12,) -> 8680 | J33: =ROUNDDOWN((F33+H33+I33)/1,0) -> 112844 | L33: =D33 -> 프레나기조작원 | M33: =F33 -> 78123
B34: 39 | D34: 레이저광선원 | F34: 89253 | H34: =ROUNDDOWN(F34/12*4,) -> 29751 | I34: =ROUNDDOWN(SUM(F34:H34)/12,) -> 9917 | J34: =ROUNDDOWN((F34+H34+I34)/1,0) -> 128921 | L34: =D34 -> 레이저광선원 | M34: =F34 -> 89253
... B38: 43 | D38: 권취원 | F38: 77888 | H38: =ROUNDDOWN(F38/12*4,) -> 25962 | I38: =ROUNDDOWN(SUM(F38:H38)/12,) -> 8654 | J38: =ROUNDDOWN((F38+H38+I38)/1,0) -> 112504 | L38: =D38 -> 권취원 | M38: =F38 -> 77888
B39: 44 | D39: 연선기·연합기조작원 | H39: =ROUNDDOWN(F39/12*4,) -> 0 | I39: =ROUNDDOWN(SUM(F39:H39)/12,) -> 0 | J39: =ROUNDDOWN((F39+H39+I39)/1,0) -> 0 | L39: =D39 -> 연선기·연합기조작원 | M39: =F39 -> 0
B40: 45 | D40: 신선기조작원 | F40: 78140 | H40: =ROUNDDOWN(F40/12*4,) -> 26046 | I40: =ROUNDDOWN(SUM(F40:H40)/12,) -> 8682 | J40: =ROUNDDOWN((F40+H40+I40)/1,0) -> 112868 | L40: =D40 -> 신선기조작원 | M40: =F40 -> 78140
B41: 46 | D41: 절연원 | H41: =ROUNDDOWN(F41/12*4,) -> 0 | I41: =ROUNDDOWN(SUM(F41:H41)/12,) -> 0 | J41: =ROUNDDOWN((F41+H41+I41)/1,0) -> 0 | L41: =D41 -> 절연원 | M41: =F41 -> 0
B42: 47 | D42: 피복원 | H42: =ROUNDDOWN(F42/12*4,) -> 0 | I42: =ROUNDDOWN(SUM(F42:H42)/12,) -> 0 | J42: =ROUNDDOWN((F42+H42+I42)/1,0) -> 0 | L42: =D42 -> 피복원 | M42: =F42 -> 0
B43: 48 | D43: 고무제품생산원 | F43: 76252 | H43: =ROUNDDOWN(F43/12*4,) -> 25417 | I43: =ROUNDDOWN(SUM(F43:H43)/12,) -> 8472 | J43: =ROUNDDOWN((F43+H43+I43)/1,0) -> 110141 | L43: =D43 -> 고무제품생산원 | M43: =F43 -> 76252
B44: 50 | D44: 용접원 | F44: 88936 | H44: =ROUNDDOWN(F44/12*4,) -> 29645 | I44: =ROUNDDOWN(SUM(F44:H44)/12,) -> 9881 | J44: =ROUNDDOWN((F44+H44+I44)/1,0) -> 128462 | L44: =D44 -> 용접원 | M44: =F44 -> 88936
B45: 51 | D45: 연삭기및연마기조작원 | F45: 86808 | H45: =ROUNDDOWN(F45/12*4,) -> 28936 | I45: =ROUNDDOWN(SUM(F45:H45)/12,) -> 9645 | J45: =ROUNDDOWN((F45+H45+I45)/1,0) -> 125389 | L45: =D45 -> 연삭기및연마기조작원 | M45: =F45 -> 86808
...
